BEGIN:VCALENDAR
VERSION:2.0
PRODID:spatie/icalendar-generator
DESCRIPTION:Events from Maaseudun tukihenkilöverkko
X-WR-CALDESC:Events from Maaseudun tukihenkilöverkko
REFRESH-INTERVAL;VALUE=DURATION:PT1440M
X-PUBLISHED-TTL:PT1440M
BEGIN:VTIMEZONE
TZID:Europe/Helsinki
BEGIN:DAYLIGHT
DTSTART:20240331T030000Z
TZOFFSETFROM:+0200
TZOFFSETTO:+0300
END:DAYLIGHT
BEGIN:STANDARD
DTSTART:20241027T040000Z
TZOFFSETFROM:+0300
TZOFFSETTO:+0200
END:STANDARD
END:VTIMEZONE
BEGIN:VTIMEZONE
TZID:UTC
BEGIN:STANDARD
DTSTART:20250725T090608Z
TZOFFSETFROM:+0000
TZOFFSETTO:+0000
END:STANDARD
END:VTIMEZONE
BEGIN:VEVENT
UID:14-14
DTSTAMP:20260421T090608Z
SUMMARY:Jatkokoulutus: Psykiatria hoitaa vai hoitaako? 3.9.2024 klo 17-18
LOCATION:
ORGANIZER;CN=Maaseudun tukihenkilöverkko:MAILTO:mia.kalpa@lomajaterveys.fi
DTSTART;TZID=Europe/Helsinki:20240903T170000
DTEND;TZID=Europe/Helsinki:20240903T180000
X-ALT-DESC;FMTTYPE=TEXT/HTML:<p>Koulutuksessa käydään läpi psykiatrian 
 roolia mielenterveyden ongelmien hoidon kentässä. Milloin avunhakijan ol
 isi hyvä saada psykiatrista hoitoa?</p>\n<p>Alta lisätiedoista löydät 
 Teams -linkin.</p>\n
CATEGORIES:General
URL;VALUE=URI:https://tukihenkilo.fi/mc-events/jatkokoulutus-psykiatria-hoi
 taa-vai-hoitaako-3-9-2024-klo-17-18/
METHOD:PUBLISH
END:VEVENT
END:VCALENDAR